BEGIN:VCALENDAR
VERSION:2.0
PRODID:-//ukrsa - ECPv6.15.20//NONSGML v1.0//EN
CALSCALE:GREGORIAN
METHOD:PUBLISH
X-WR-CALNAME:ukrsa
X-ORIGINAL-URL:https://ukrsa.com
X-WR-CALDESC:Events for ukrsa
REFRESH-INTERVAL;VALUE=DURATION:PT1H
X-Robots-Tag:noindex
X-PUBLISHED-TTL:PT1H
BEGIN:VTIMEZONE
TZID:Europe/London
BEGIN:DAYLIGHT
TZOFFSETFROM:+0000
TZOFFSETTO:+0100
TZNAME:BST
DTSTART:20240331T010000
END:DAYLIGHT
BEGIN:STANDARD
TZOFFSETFROM:+0100
TZOFFSETTO:+0000
TZNAME:GMT
DTSTART:20241027T010000
END:STANDARD
BEGIN:DAYLIGHT
TZOFFSETFROM:+0000
TZOFFSETTO:+0100
TZNAME:BST
DTSTART:20250330T010000
END:DAYLIGHT
BEGIN:STANDARD
TZOFFSETFROM:+0100
TZOFFSETTO:+0000
TZNAME:GMT
DTSTART:20251026T010000
END:STANDARD
BEGIN:DAYLIGHT
TZOFFSETFROM:+0000
TZOFFSETTO:+0100
TZNAME:BST
DTSTART:20260329T010000
END:DAYLIGHT
BEGIN:STANDARD
TZOFFSETFROM:+0100
TZOFFSETTO:+0000
TZNAME:GMT
DTSTART:20261025T010000
END:STANDARD
END:VTIMEZONE
BEGIN:VEVENT
DTSTART;TZID=Europe/London:20250201T093000
DTEND;TZID=Europe/London:20250201T170000
DTSTAMP:20260422T110012
CREATED:20241027T082036Z
LAST-MODIFIED:20241027T082036Z
UID:10000527-1738402200-1738429200@ukrsa.com
SUMMARY:Badminton Stringer Course - Epsom (close to M25) - Saturday 1st February 2025
DESCRIPTION:This is another opportunity to join one of our very popular Badminton specialist stringer courses based in the South of England at Ebbisham Sports Club in Epsom\, Surrey. \nYour course tutor will be Martin Creasey\, a very experienced racket technician and current Surrey County and England Masters Badminton player. He will take you through all of the racket servicing skills for badminton stringing and by the end of the day you will be able to string badminton rackets to a good standard. The course is suitable for those new to stringing\, or those already stringing and who wish to enhance their skills and knowledge. \nIf you have your own machine\, please bring it to practice on. We will check this is correctly set up for you. An electronic and manual crank machine will also be provided for those who do not yet have their own machine. \nYou may bring along your own rackets to work on if you wish and practice rackets and string will also be provided. There is a lot to cover and we will tailor the course according to your needs. \nThe Course starts at 9.30am and finishes at 5.00pm. \nCourse fee of £249 includes one years UKRSA membership which allows you to access the UKRSA Technical Forum where you will be able to chat about rackets and strings. No matter what problem you may come across\, someone there has already got the answer!  UKRSA members have access to lots of product discounts from many brands. \nFood – Bring a packed lunch \nCertification will be awarded at the end of the day if the right level of skills and knowledge is achieved. \nYou will have a wonderful day of learning\, something to look back on in years to come. \nIf you are interested in a badminton stringer course in the south of England but cannot make this date\, please see the list of other scheduled courses or contact the course tutor  Martin Creasey .  \nWhere possible\, we will try to arrange additional courses according to the level of demand.
URL:https://ukrsa.com/event/badminton-stringer-course-epsom-close-to-m25-2/
LOCATION:Ebbisham Sports Club\, Epsom \, Surrey KT19 8SG\, Eastway\, off Pound Lane\, Epsom\, Surrey\, KT19 8SG\, United Kingdom
END:VEVENT
BEGIN:VEVENT
DTSTART;TZID=Europe/London:20250202T093000
DTEND;TZID=Europe/London:20250202T170000
DTSTAMP:20260422T110012
CREATED:20250109T110301Z
LAST-MODIFIED:20250109T110301Z
UID:10000529-1738488600-1738515600@ukrsa.com
SUMMARY:Badminton Stringer Course - Warrington\, 2nd February 2025
DESCRIPTION:Your course tutor will be Paul Stewart\, an experienced tournament stringer and coach. He will take you through all of the racket servicing skills for badminton stringing and by the end of the day you will be able to string badminton rackets to a good standard. The course is suitable for those new to stringing\, or those already stringing and who wish to enhance their skills and knowledge. \nYou are welcome to bring your own machine along\, or you can learn on my personal stringing machine. A familiar machine can help to grasp new skills and knowledge. \nCourse starts at 9.30am and finishes at 5.00pm. \nCourse fee of £249 includes one years UKRSA membership which allows you to access the UKRSA Technical Forum where you will be able to chat about rackets and strings and no matter what problem you may come across\, someone there has already got the answer!  UKRSA members have access to lots of product discounts from many brands. \nFood – Bring along a packed lunch\, tea/coffee etc will be provided. \nYou may bring along your own rackets to work on if you wish and if time allows. There is so much to cover apart from the actual stringing. Gripping by itself can be a real skill! \nCertification will be awarded at the end of the day if you have demonstrated sufficient skills and knowledge.
URL:https://ukrsa.com/event/badminton-stringer-course-warrington-2nd-february-2025-2/
LOCATION:20 Woodbridge Close\, Appleton\, Warrington\, Cheshire. WA45RD.\, 20 Woodbridge Close\, Appleton\, Warrington\, Cheshire\, WA45RD\, United Kingdom
END:VEVENT
BEGIN:VEVENT
DTSTART;TZID=Europe/London:20250208T093000
DTEND;TZID=Europe/London:20250208T170000
DTSTAMP:20260422T110012
CREATED:20250120T120848Z
LAST-MODIFIED:20250120T120848Z
UID:10000530-1739007000-1739034000@ukrsa.com
SUMMARY:Badminton Stringer Course - Epsom (close to M25) - Saturday 8th February 2025
DESCRIPTION:This is another opportunity to join one of our very popular Badminton specialist stringer courses based in the South of England at Ebbisham Sports Club in Epsom\, Surrey. \nYour course tutor will be Martin Creasey\, a very experienced racket technician and current Surrey County and England Masters Badminton player. He will take you through all of the racket servicing skills for badminton stringing and by the end of the day you will be able to string badminton rackets to a good standard. The course is suitable for those new to stringing\, or those already stringing and who wish to enhance their skills and knowledge. \nIf you have your own machine\, please bring it to practice on. We will check this is correctly set up for you. An electronic and manual crank machine will also be provided for those who do not yet have their own machine. \nYou may bring along your own rackets to work on if you wish and practice rackets and string will also be provided. There is a lot to cover and we will tailor the course according to your needs. \nThe Course starts at 9.30am and finishes at 5.00pm. \nCourse fee of £249 includes one years UKRSA membership which allows you to access the UKRSA Technical Forum where you will be able to chat about rackets and strings. No matter what problem you may come across\, someone there has already got the answer!  UKRSA members have access to lots of product discounts from many brands. \nFood – Bring a packed lunch (no food is available at the venue and there will not be time to go out for lunch) \nCertification will be awarded at the end of the day if the right level of skills and knowledge is achieved. \nYou will have a wonderful day of learning\, something to look back on in years to come. \nIf you are interested in a badminton stringer course in the south of England but cannot make this date\, please see the list of other scheduled courses or contact the course tutor  Martin Creasey .  \nWhere possible\, we will try to arrange additional courses according to the level of demand.
URL:https://ukrsa.com/event/badminton-stringer-course-epsom-close-to-m25-saturday-8th-february-2025/
LOCATION:Ebbisham Sports Club\, Epsom \, Surrey KT19 8SG\, Eastway\, off Pound Lane\, Epsom\, Surrey\, KT19 8SG\, United Kingdom
END:VEVENT
BEGIN:VEVENT
DTSTART;TZID=Europe/London:20250228T093000
DTEND;TZID=Europe/London:20250228T163000
DTSTAMP:20260422T110012
CREATED:20241204T091016Z
LAST-MODIFIED:20241204T100714Z
UID:10000528-1740735000-1740760200@ukrsa.com
SUMMARY:Oxshott – Tennis/Squash Stringer Course Friday 28th February
DESCRIPTION:Nestled in the beautiful Surrey village of Oxshott lies the Oxshott Village Sports Club. \nHome to a plethora of sports including Tennis\, Squash\, Padel Tennis and Racketball\, it’s here that we will host our very popular one day stringing course. \nThe course starts promptly at 9.30am and will finish by 4:30pm\, possibly earlier depending on how things progress. \nIt’s recommended to bring your own lunch. Drinks will be available to purchase at the club although coffee and tea will be provided. \nStringing machines will be provided\, though if anyone wishes to bring along their own machine then let Paul know in advance. This course will cover either tennis or squash and on the day it’s your choice. Provided the right skills and knowledge are achieved then a certificate will be awarded at the end of the day. \nIt will be a very busy day with lots to cover. The emphasis will be on the actual stringing skills. Suitable for complete beginners who wish to start off on the right foot\, or for experienced stringers wishing to upgrade their skills/knowledge and/or to achieve the certification of Tennis Stringer or Squash Stringer. \nThe course fee includes one year of UKRSA membership which allows access to the UKRSA Technical Forum and to exchange information with the other stringers\, great product discounts or even get involved in tournament stringing work. Tennis coaches earn 6 CPD credits upon successful certification. \nPlaces are limited so book soon to avoid disappointment. Please note that after booking your place\, you will only receive a pre-course email a week or two before the course date.
URL:https://ukrsa.com/event/oxshott-tennis-squash-stringer-course-friday-28th-february/
LOCATION:Oxshott Village Sports Club\, Steels Lane\, Oxshott\, Surrey\, KT22 0RF\, United Kingdom
ORGANIZER;CN="Paul Reilly":MAILTO:paul@ukrsa.com
END:VEVENT
END:VCALENDAR